BEGIN:VCALENDAR
VERSION:2.0
PRODID:-//Eventin//Event Calendar//EN
CALSCALE:GREGORIAN
METHOD:PUBLISH
BEGIN:VEVENT
UID:6dce710e29f7509b190b18b0f9ba0949@bkksvzw.be
SUMMARY:K3 RUN & FUN - HOFSTADE
DESCRIPTION:INFO : team_lotgenoten@bkks.be   tel 011/19 28 19
LOCATION:HOFSTADE
DTSTAMP:20260424T101216Z
DTSTART:20260920T060000Z
DTEND:20260920T150000Z
END:VEVENT
END:VCALENDAR
