BEGIN:VCALENDAR
VERSION:2.0
PRODID:-//Eventin//Event Calendar//EN
CALSCALE:GREGORIAN
METHOD:PUBLISH
BEGIN:VEVENT
UID:463e03832dbd37a2250aab6527b7d324@bkksvzw.be
SUMMARY:DE LAATSTE DAGEN VAN POMPEÏ - EXPO BRUSSEL
DESCRIPTION:INFO : team_lotgenoten@bkks.be   tel 011/19 28 19
LOCATION:EXPO BRUSSEL
DTSTAMP:20260420T113850Z
DTSTART:20260429T060000Z
DTEND:20260429T150000Z
END:VEVENT
END:VCALENDAR
