BEGIN:VCALENDAR
VERSION:2.0
PRODID:-//Eventin//Event Calendar//EN
CALSCALE:GREGORIAN
METHOD:PUBLISH
BEGIN:VEVENT
UID:ecb868a72037f392ed3c9170dfe0ee6c@bkksvzw.be
SUMMARY:SWING INTO SPRING MET PRINSESSEN - ZEPPEREN
DESCRIPTION:INFO : team_lotgenoten@bkks.be   tel 011/19 28 19
LOCATION:ZEPPEREN
DTSTAMP:20260420T114513Z
DTSTART:20260531T060000Z
DTEND:20260531T150000Z
END:VEVENT
END:VCALENDAR
